BEGIN:VCALENDAR
VERSION:2.0
PRODID:-//Marimn Health - ECPv6.15.20//NONSGML v1.0//EN
CALSCALE:GREGORIAN
METHOD:PUBLISH
X-ORIGINAL-URL:https://www.marimnhealth.org
X-WR-CALDESC:Events for Marimn Health
REFRESH-INTERVAL;VALUE=DURATION:PT1H
X-Robots-Tag:noindex
X-PUBLISHED-TTL:PT1H
BEGIN:VTIMEZONE
TZID:America/Los_Angeles
BEGIN:DAYLIGHT
TZOFFSETFROM:-0800
TZOFFSETTO:-0700
TZNAME:PDT
DTSTART:20240310T100000
END:DAYLIGHT
BEGIN:STANDARD
TZOFFSETFROM:-0700
TZOFFSETTO:-0800
TZNAME:PST
DTSTART:20241103T090000
END:STANDARD
BEGIN:DAYLIGHT
TZOFFSETFROM:-0800
TZOFFSETTO:-0700
TZNAME:PDT
DTSTART:20250309T100000
END:DAYLIGHT
BEGIN:STANDARD
TZOFFSETFROM:-0700
TZOFFSETTO:-0800
TZNAME:PST
DTSTART:20251102T090000
END:STANDARD
BEGIN:DAYLIGHT
TZOFFSETFROM:-0800
TZOFFSETTO:-0700
TZNAME:PDT
DTSTART:20260308T100000
END:DAYLIGHT
BEGIN:STANDARD
TZOFFSETFROM:-0700
TZOFFSETTO:-0800
TZNAME:PST
DTSTART:20261101T090000
END:STANDARD
END:VTIMEZONE
BEGIN:VEVENT
DTSTART;TZID=America/Los_Angeles:20250829T000000
DTEND;TZID=America/Los_Angeles:20250902T235959
DTSTAMP:20260421T043706
CREATED:20250829T194457Z
LAST-MODIFIED:20250829T194457Z
UID:10000536-1756425600-1756857599@www.marimnhealth.org
SUMMARY:BGC 2025-2026 Registration
DESCRIPTION:
URL:https://www.marimnhealth.org/calendar/bgc-2025-2026-registration/
LOCATION:Boys & Girls Club of the CDA Tribe\, 43935 S. Hwy. 95\, Worley\, ID\, 83876
ATTACH;FMTTYPE=image/jpeg:https://www.marimnhealth.org/wp-content/uploads/2025/08/IMG_0617.jpeg
ORGANIZER;CN="BGC":MAILTO:bgcstaff@marimnhealth.org
END:VEVENT
BEGIN:VEVENT
DTSTART;TZID=America/Los_Angeles:20250831T000000
DTEND;TZID=America/Los_Angeles:20250831T235959
DTSTAMP:20260421T043706
CREATED:20250828T175539Z
LAST-MODIFIED:20250828T175718Z
UID:10000414-1756598400-1756684799@www.marimnhealth.org
SUMMARY:Marimn Health Fall Adult Softball
DESCRIPTION:Registration Ends: September 1st
URL:https://www.marimnhealth.org/calendar/marimn-health-fall-adult-softball/
LOCATION:Marimn Health Coeur Center\, 43935 US-95\, Worley\, ID\, 83876\, United States
ATTACH;FMTTYPE=image/jpeg:https://www.marimnhealth.org/wp-content/uploads/2025/08/MH-Fall-Softball.jpg
ORGANIZER;CN="Recreation":MAILTO:recreation@marimnhealth.org
END:VEVENT
END:VCALENDAR