BEGIN:VCALENDAR
VERSION:2.0
PRODID:-//Marimn Health - ECPv6.15.20//NONSGML v1.0//EN
CALSCALE:GREGORIAN
METHOD:PUBLISH
X-ORIGINAL-URL:https://www.marimnhealth.org
X-WR-CALDESC:Events for Marimn Health
REFRESH-INTERVAL;VALUE=DURATION:PT1H
X-Robots-Tag:noindex
X-PUBLISHED-TTL:PT1H
BEGIN:VTIMEZONE
TZID:America/Los_Angeles
BEGIN:DAYLIGHT
TZOFFSETFROM:-0800
TZOFFSETTO:-0700
TZNAME:PDT
DTSTART:20250309T100000
END:DAYLIGHT
BEGIN:STANDARD
TZOFFSETFROM:-0700
TZOFFSETTO:-0800
TZNAME:PST
DTSTART:20251102T090000
END:STANDARD
BEGIN:DAYLIGHT
TZOFFSETFROM:-0800
TZOFFSETTO:-0700
TZNAME:PDT
DTSTART:20260308T100000
END:DAYLIGHT
BEGIN:STANDARD
TZOFFSETFROM:-0700
TZOFFSETTO:-0800
TZNAME:PST
DTSTART:20261101T090000
END:STANDARD
BEGIN:DAYLIGHT
TZOFFSETFROM:-0800
TZOFFSETTO:-0700
TZNAME:PDT
DTSTART:20270314T100000
END:DAYLIGHT
BEGIN:STANDARD
TZOFFSETFROM:-0700
TZOFFSETTO:-0800
TZNAME:PST
DTSTART:20271107T090000
END:STANDARD
END:VTIMEZONE
BEGIN:VEVENT
DTSTART;TZID=America/Los_Angeles:20260202T000000
DTEND;TZID=America/Los_Angeles:20260227T235959
DTSTAMP:20260420T193030
CREATED:20260126T194721Z
LAST-MODIFIED:20260126T200337Z
UID:10006922-1769990400-1772236799@www.marimnhealth.org
SUMMARY:Climb the Mountain
DESCRIPTION:
URL:https://www.marimnhealth.org/calendar/climb-the-mountain/
LOCATION:Marimn Health Wellness Center\, 1100 A St\, Plummer\, ID\, 83851\, United States
ATTACH;FMTTYPE=image/png:https://www.marimnhealth.org/wp-content/uploads/2026/01/Climb-the-mountain-2026-Facebook-Post.png
END:VEVENT
BEGIN:VEVENT
DTSTART;TZID=America/Los_Angeles:20260209T170000
DTEND;TZID=America/Los_Angeles:20260213T183000
DTSTAMP:20260420T193030
CREATED:20260126T222723Z
LAST-MODIFIED:20260126T222723Z
UID:10006930-1770656400-1771007400@www.marimnhealth.org
SUMMARY:Lover's Float
DESCRIPTION:
URL:https://www.marimnhealth.org/calendar/lovers-float/
LOCATION:Marimn Health Coeur Center\, 43935 US-95\, Worley\, ID\, 83876\, United States
ATTACH;FMTTYPE=image/png:https://www.marimnhealth.org/wp-content/uploads/2026/01/Lovers-Float-2026-Aquatics-FB-IMG-1.png
ORGANIZER;CN="Aquatics":MAILTO:Aquatics@MarimnHealth.org
END:VEVENT
BEGIN:VEVENT
DTSTART;TZID=America/Los_Angeles:20260213T100000
DTEND;TZID=America/Los_Angeles:20260213T140000
DTSTAMP:20260420T193030
CREATED:20260126T194926Z
LAST-MODIFIED:20260126T194926Z
UID:10006923-1770976800-1770991200@www.marimnhealth.org
SUMMARY:Valentine's Day Fun Walk/Run
DESCRIPTION:
URL:https://www.marimnhealth.org/calendar/valentines-day-fun-walk-run/
LOCATION:ID
ATTACH;FMTTYPE=image/png:https://www.marimnhealth.org/wp-content/uploads/2026/01/Valentines-Day-Fun-walkrun-FB-IMG.png
END:VEVENT
BEGIN:VEVENT
DTSTART;TZID=America/Los_Angeles:20260213T100000
DTEND;TZID=America/Los_Angeles:20260213T153000
DTSTAMP:20260420T193030
CREATED:20260126T221853Z
LAST-MODIFIED:20260126T221853Z
UID:10006925-1770976800-1770996600@www.marimnhealth.org
SUMMARY:Community First Aid & CPR Training
DESCRIPTION:
URL:https://www.marimnhealth.org/calendar/community-first-aid-cpr-training/
LOCATION:Marimn Health Coeur Center\, 43935 US-95\, Worley\, ID\, 83876\, United States
ATTACH;FMTTYPE=image/png:https://www.marimnhealth.org/wp-content/uploads/2026/01/Communtity-First-Aid-Classes-2026-FB-IMG-2.png
ORGANIZER;CN="Aquatics":MAILTO:Aquatics@MarimnHealth.org
END:VEVENT
BEGIN:VEVENT
DTSTART;TZID=America/Los_Angeles:20260213T180000
DTEND;TZID=America/Los_Angeles:20260213T230000
DTSTAMP:20260420T193030
CREATED:20260126T223103Z
LAST-MODIFIED:20260126T223103Z
UID:10006932-1771005600-1771023600@www.marimnhealth.org
SUMMARY:Teen Night
DESCRIPTION:
URL:https://www.marimnhealth.org/calendar/teen-night/
LOCATION:Marimn Health Wellness Center\, 1100 A St\, Plummer\, ID\, 83851\, United States
ATTACH;FMTTYPE=image/png:https://www.marimnhealth.org/wp-content/uploads/2026/01/Teen-Night-Feb-26-Facebook-Post-Square-1.png
ORGANIZER;CN="BGC":MAILTO:bgcstaff@marimnhealth.org
END:VEVENT
END:VCALENDAR