BEGIN:VCALENDAR
VERSION:2.0
PRODID:-//Marimn Health - ECPv6.15.20//NONSGML v1.0//EN
CALSCALE:GREGORIAN
METHOD:PUBLISH
X-ORIGINAL-URL:https://www.marimnhealth.org
X-WR-CALDESC:Events for Marimn Health
REFRESH-INTERVAL;VALUE=DURATION:PT1H
X-Robots-Tag:noindex
X-PUBLISHED-TTL:PT1H
BEGIN:VTIMEZONE
TZID:America/Los_Angeles
BEGIN:DAYLIGHT
TZOFFSETFROM:-0800
TZOFFSETTO:-0700
TZNAME:PDT
DTSTART:20250309T100000
END:DAYLIGHT
BEGIN:STANDARD
TZOFFSETFROM:-0700
TZOFFSETTO:-0800
TZNAME:PST
DTSTART:20251102T090000
END:STANDARD
BEGIN:DAYLIGHT
TZOFFSETFROM:-0800
TZOFFSETTO:-0700
TZNAME:PDT
DTSTART:20260308T100000
END:DAYLIGHT
BEGIN:STANDARD
TZOFFSETFROM:-0700
TZOFFSETTO:-0800
TZNAME:PST
DTSTART:20261101T090000
END:STANDARD
BEGIN:DAYLIGHT
TZOFFSETFROM:-0800
TZOFFSETTO:-0700
TZNAME:PDT
DTSTART:20270314T100000
END:DAYLIGHT
BEGIN:STANDARD
TZOFFSETFROM:-0700
TZOFFSETTO:-0800
TZNAME:PST
DTSTART:20271107T090000
END:STANDARD
END:VTIMEZONE
BEGIN:VEVENT
DTSTART;TZID=America/Los_Angeles:20260508T163000
DTEND;TZID=America/Los_Angeles:20260508T163000
DTSTAMP:20260423T170326
CREATED:20260423T150056Z
LAST-MODIFIED:20260423T150208Z
UID:10007019-1778257800-1778257800@www.marimnhealth.org
SUMMARY:Wellbriety Presents: Bingo With The Women You Love
DESCRIPTION:
URL:https://www.marimnhealth.org/calendar/wellbriety-presents-bingo-with-the-women-you-love/
LOCATION:Marimn Health Wellness Center\, 1100 A St\, Plummer\, ID\, 83851\, United States
ATTACH;FMTTYPE=image/png:https://www.marimnhealth.org/wp-content/uploads/2026/04/Wellbriety-Bingo-Facebook-Post-Square-2.png
ORGANIZER;CN="Wellbriety":MAILTO:Wellbriety@marimnhealth.org
END:VEVENT
BEGIN:VEVENT
DTSTART;TZID=America/Los_Angeles:20260512T083000
DTEND;TZID=America/Los_Angeles:20260512T160000
DTSTAMP:20260423T170326
CREATED:20260313T150257Z
LAST-MODIFIED:20260313T150257Z
UID:10006994-1778574600-1778601600@www.marimnhealth.org
SUMMARY:Mobile Clinic at the Casino
DESCRIPTION:
URL:https://www.marimnhealth.org/calendar/mobile-clinic-at-the-casino/
LOCATION:Coeur d’Alene Casino\, 37914 S Nukwalqw St\, Worley\, Idaho\, 83876
ATTACH;FMTTYPE=image/png:https://www.marimnhealth.org/wp-content/uploads/2026/03/Casino-Mobile-Clinic-2026-Flyer.png
END:VEVENT
BEGIN:VEVENT
DTSTART;TZID=America/Los_Angeles:20260514T100000
DTEND;TZID=America/Los_Angeles:20260514T153000
DTSTAMP:20260423T170326
CREATED:20260313T160750Z
LAST-MODIFIED:20260313T160846Z
UID:10007008-1778752800-1778772600@www.marimnhealth.org
SUMMARY:Community First Aid & CPR Training
DESCRIPTION:
URL:https://www.marimnhealth.org/calendar/community-first-aid-cpr-training-5/
LOCATION:Marimn Health Coeur Center\, 43935 US-95\, Worley\, ID\, 83876\, United States
ATTACH;FMTTYPE=image/png:https://www.marimnhealth.org/wp-content/uploads/2026/03/First-AidCPR-Mar-May-2.png
ORGANIZER;CN="Aquatics":MAILTO:Aquatics@MarimnHealth.org
END:VEVENT
BEGIN:VEVENT
DTSTART;TZID=America/Los_Angeles:20260515T180000
DTEND;TZID=America/Los_Angeles:20260515T230000
DTSTAMP:20260423T170326
CREATED:20260423T151418Z
LAST-MODIFIED:20260423T151418Z
UID:10007022-1778868000-1778886000@www.marimnhealth.org
SUMMARY:Teen Night
DESCRIPTION:
URL:https://www.marimnhealth.org/calendar/teen-night-3/
LOCATION:Marimn Health Wellness Center\, 1100 A St\, Plummer\, ID\, 83851\, United States
ATTACH;FMTTYPE=image/png:https://www.marimnhealth.org/wp-content/uploads/2026/04/Teen-Night-May-15-Flyer-1.png
ORGANIZER;CN="BGC":MAILTO:bgcstaff@marimnhealth.org
END:VEVENT
BEGIN:VEVENT
DTSTART;TZID=America/Los_Angeles:20260516T090000
DTEND;TZID=America/Los_Angeles:20260516T120000
DTSTAMP:20260423T170326
CREATED:20260423T151620Z
LAST-MODIFIED:20260423T151620Z
UID:10007023-1778922000-1778932800@www.marimnhealth.org
SUMMARY:Youth Baseball Camp
DESCRIPTION:
URL:https://www.marimnhealth.org/calendar/youth-baseball-camp/
LOCATION:Marimn Health Coeur Center\, 43935 US-95\, Worley\, ID\, 83876\, United States
ATTACH;FMTTYPE=image/png:https://www.marimnhealth.org/wp-content/uploads/2026/04/Baseball-Camp-2026-Flyer-1.png
ORGANIZER;CN="BGC":MAILTO:bgcstaff@marimnhealth.org
END:VEVENT
BEGIN:VEVENT
DTSTART;TZID=America/Los_Angeles:20260525T000000
DTEND;TZID=America/Los_Angeles:20260525T235959
DTSTAMP:20260423T170326
CREATED:20260423T144418Z
LAST-MODIFIED:20260423T144418Z
UID:10007015-1779667200-1779753599@www.marimnhealth.org
SUMMARY:Memorial Day Closure
DESCRIPTION:
URL:https://www.marimnhealth.org/calendar/memorial-day-closure/
LOCATION:Boys & Girls Club of the CDA Tribe\, 43935 S. Hwy. 95\, Worley\, ID\, 83876
ATTACH;FMTTYPE=image/png:https://www.marimnhealth.org/wp-content/uploads/2026/04/Memorial-Day-2026-1.png
END:VEVENT
BEGIN:VEVENT
DTSTART;TZID=America/Los_Angeles:20260526T083000
DTEND;TZID=America/Los_Angeles:20260526T160000
DTSTAMP:20260423T170326
CREATED:20260313T153317Z
LAST-MODIFIED:20260313T153317Z
UID:10006995-1779784200-1779811200@www.marimnhealth.org
SUMMARY:Mobile Clinic at the Casino
DESCRIPTION:
URL:https://www.marimnhealth.org/calendar/mobile-clinic-at-the-casino-2/
LOCATION:Coeur d’Alene Casino\, 37914 S Nukwalqw St\, Worley\, Idaho\, 83876
ATTACH;FMTTYPE=image/png:https://www.marimnhealth.org/wp-content/uploads/2026/03/Casino-Mobile-Clinic-2026-Flyer.png
END:VEVENT
BEGIN:VEVENT
DTSTART;TZID=America/Los_Angeles:20260528T080000
DTEND;TZID=America/Los_Angeles:20260528T160000
DTSTAMP:20260423T170326
CREATED:20260423T144852Z
LAST-MODIFIED:20260423T144852Z
UID:10007016-1779955200-1779984000@www.marimnhealth.org
SUMMARY:RC Basic Training
DESCRIPTION:* Must attend all 3 days in sequence to be certified.
URL:https://www.marimnhealth.org/calendar/rc-basic-training-4/
LOCATION:Marimn Health Medical Center\, 427 N 12th Street\, Plummer\, ID\, 83851\, United States
ATTACH;FMTTYPE=image/png:https://www.marimnhealth.org/wp-content/uploads/2026/04/Risking-Connection-2026-Flyer-and-FB-IMGS-4.png
END:VEVENT
BEGIN:VEVENT
DTSTART;TZID=America/Los_Angeles:20260529T180000
DTEND;TZID=America/Los_Angeles:20260529T220000
DTSTAMP:20260423T170326
CREATED:20260423T151744Z
LAST-MODIFIED:20260423T151744Z
UID:10007024-1780077600-1780092000@www.marimnhealth.org
SUMMARY:Teen Night
DESCRIPTION:
URL:https://www.marimnhealth.org/calendar/teen-night-4/
LOCATION:Marimn Health Wellness Center\, 1100 A St\, Plummer\, ID\, 83851\, United States
ATTACH;FMTTYPE=image/png:https://www.marimnhealth.org/wp-content/uploads/2026/04/May-29-Teen-Night-Flyer.png
ORGANIZER;CN="BGC":MAILTO:bgcstaff@marimnhealth.org
END:VEVENT
BEGIN:VEVENT
DTSTART;TZID=America/Los_Angeles:20260604T080000
DTEND;TZID=America/Los_Angeles:20260604T160000
DTSTAMP:20260423T170326
CREATED:20260423T145041Z
LAST-MODIFIED:20260423T145041Z
UID:10007017-1780560000-1780588800@www.marimnhealth.org
SUMMARY:RC Basic Training
DESCRIPTION:*Must attend all 3 days in sequence to be certified.
URL:https://www.marimnhealth.org/calendar/rc-basic-training-5/
LOCATION:Marimn Health Coeur Center\, 43935 US-95\, Worley\, ID\, 83876\, United States
ATTACH;FMTTYPE=image/png:https://www.marimnhealth.org/wp-content/uploads/2026/04/Risking-Connection-2026-Flyer-and-FB-IMGS-4.png
END:VEVENT
BEGIN:VEVENT
DTSTART;TZID=America/Los_Angeles:20260609T083000
DTEND;TZID=America/Los_Angeles:20260609T160000
DTSTAMP:20260423T170326
CREATED:20260313T153446Z
LAST-MODIFIED:20260313T153446Z
UID:10006996-1780993800-1781020800@www.marimnhealth.org
SUMMARY:Mobile Clinic at the Casino
DESCRIPTION:
URL:https://www.marimnhealth.org/calendar/mobile-clinic-at-the-casino-3/
LOCATION:Coeur d’Alene Casino\, 37914 S Nukwalqw St\, Worley\, Idaho\, 83876
ATTACH;FMTTYPE=image/png:https://www.marimnhealth.org/wp-content/uploads/2026/03/Casino-Mobile-Clinic-2026-Flyer.png
END:VEVENT
BEGIN:VEVENT
DTSTART;TZID=America/Los_Angeles:20260611T080000
DTEND;TZID=America/Los_Angeles:20260611T160000
DTSTAMP:20260423T170326
CREATED:20260423T145145Z
LAST-MODIFIED:20260423T145145Z
UID:10007018-1781164800-1781193600@www.marimnhealth.org
SUMMARY:RC Basic Training
DESCRIPTION:*Must attend all 3 days in sequence to be certified.
URL:https://www.marimnhealth.org/calendar/rc-basic-training-6/
LOCATION:Marimn Health Medical Center\, 427 N 12th Street\, Plummer\, ID\, 83851\, United States
ATTACH;FMTTYPE=image/png:https://www.marimnhealth.org/wp-content/uploads/2026/04/Risking-Connection-2026-Flyer-and-FB-IMGS-4.png
END:VEVENT
BEGIN:VEVENT
DTSTART;TZID=America/Los_Angeles:20260623T083000
DTEND;TZID=America/Los_Angeles:20260623T160000
DTSTAMP:20260423T170326
CREATED:20260313T154232Z
LAST-MODIFIED:20260313T154232Z
UID:10006997-1782203400-1782230400@www.marimnhealth.org
SUMMARY:Mobile Clinic at the Casino
DESCRIPTION:
URL:https://www.marimnhealth.org/calendar/mobile-clinic-at-the-casino-4/
LOCATION:Coeur d’Alene Casino\, 37914 S Nukwalqw St\, Worley\, Idaho\, 83876
ATTACH;FMTTYPE=image/png:https://www.marimnhealth.org/wp-content/uploads/2026/03/Casino-Mobile-Clinic-2026-Flyer.png
END:VEVENT
BEGIN:VEVENT
DTSTART;TZID=America/Los_Angeles:20260714T083000
DTEND;TZID=America/Los_Angeles:20260714T160000
DTSTAMP:20260423T170326
CREATED:20260313T154330Z
LAST-MODIFIED:20260313T154330Z
UID:10006998-1784017800-1784044800@www.marimnhealth.org
SUMMARY:Mobile Clinic at the Casino
DESCRIPTION:
URL:https://www.marimnhealth.org/calendar/mobile-clinic-at-the-casino-5/
LOCATION:Coeur d’Alene Casino\, 37914 S Nukwalqw St\, Worley\, Idaho\, 83876
ATTACH;FMTTYPE=image/png:https://www.marimnhealth.org/wp-content/uploads/2026/03/Casino-Mobile-Clinic-2026-Flyer-1.png
END:VEVENT
BEGIN:VEVENT
DTSTART;TZID=America/Los_Angeles:20260728T083000
DTEND;TZID=America/Los_Angeles:20260728T160000
DTSTAMP:20260423T170326
CREATED:20260313T154405Z
LAST-MODIFIED:20260313T154405Z
UID:10006999-1785227400-1785254400@www.marimnhealth.org
SUMMARY:Mobile Clinic at the Casino
DESCRIPTION:
URL:https://www.marimnhealth.org/calendar/mobile-clinic-at-the-casino-6/
LOCATION:Coeur d’Alene Casino\, 37914 S Nukwalqw St\, Worley\, Idaho\, 83876
ATTACH;FMTTYPE=image/png:https://www.marimnhealth.org/wp-content/uploads/2026/03/Casino-Mobile-Clinic-2026-Flyer-1.png
END:VEVENT
BEGIN:VEVENT
DTSTART;TZID=America/Los_Angeles:20260811T083000
DTEND;TZID=America/Los_Angeles:20260811T160000
DTSTAMP:20260423T170326
CREATED:20260313T154511Z
LAST-MODIFIED:20260313T154511Z
UID:10007000-1786437000-1786464000@www.marimnhealth.org
SUMMARY:Mobile Clinic at the Casino
DESCRIPTION:
URL:https://www.marimnhealth.org/calendar/mobile-clinic-at-the-casino-7/
LOCATION:Coeur d’Alene Casino\, 37914 S Nukwalqw St\, Worley\, Idaho\, 83876
ATTACH;FMTTYPE=image/png:https://www.marimnhealth.org/wp-content/uploads/2026/03/Casino-Mobile-Clinic-2026-Flyer-1.png
END:VEVENT
BEGIN:VEVENT
DTSTART;TZID=America/Los_Angeles:20260825T083000
DTEND;TZID=America/Los_Angeles:20260825T160000
DTSTAMP:20260423T170326
CREATED:20260313T154618Z
LAST-MODIFIED:20260313T154618Z
UID:10007001-1787646600-1787673600@www.marimnhealth.org
SUMMARY:Mobile Clinic at the Casino
DESCRIPTION:
URL:https://www.marimnhealth.org/calendar/mobile-clinic-at-the-casino-8/
LOCATION:Coeur d’Alene Casino\, 37914 S Nukwalqw St\, Worley\, Idaho\, 83876
ATTACH;FMTTYPE=image/png:https://www.marimnhealth.org/wp-content/uploads/2026/03/Casino-Mobile-Clinic-2026-Flyer-1.png
END:VEVENT
BEGIN:VEVENT
DTSTART;TZID=America/Los_Angeles:20260908T083000
DTEND;TZID=America/Los_Angeles:20260908T160000
DTSTAMP:20260423T170326
CREATED:20260313T154729Z
LAST-MODIFIED:20260313T154729Z
UID:10007002-1788856200-1788883200@www.marimnhealth.org
SUMMARY:Mobile Clinic at the Casino
DESCRIPTION:
URL:https://www.marimnhealth.org/calendar/mobile-clinic-at-the-casino-9/
LOCATION:Coeur d’Alene Casino\, 37914 S Nukwalqw St\, Worley\, Idaho\, 83876
ATTACH;FMTTYPE=image/png:https://www.marimnhealth.org/wp-content/uploads/2026/03/Casino-Mobile-Clinic-2026-Flyer-2.png
END:VEVENT
BEGIN:VEVENT
DTSTART;TZID=America/Los_Angeles:20260922T083000
DTEND;TZID=America/Los_Angeles:20260922T160000
DTSTAMP:20260423T170326
CREATED:20260313T154904Z
LAST-MODIFIED:20260313T154904Z
UID:10007003-1790065800-1790092800@www.marimnhealth.org
SUMMARY:Mobile Clinic at the Casino
DESCRIPTION:
URL:https://www.marimnhealth.org/calendar/mobile-clinic-at-the-casino-10/
LOCATION:Coeur d’Alene Casino\, 37914 S Nukwalqw St\, Worley\, Idaho\, 83876
ATTACH;FMTTYPE=image/png:https://www.marimnhealth.org/wp-content/uploads/2026/03/Casino-Mobile-Clinic-2026-Flyer-2.png
END:VEVENT
BEGIN:VEVENT
DTSTART;TZID=America/Los_Angeles:20261013T083000
DTEND;TZID=America/Los_Angeles:20261013T160000
DTSTAMP:20260423T170326
CREATED:20260313T154946Z
LAST-MODIFIED:20260313T154946Z
UID:10007004-1791880200-1791907200@www.marimnhealth.org
SUMMARY:Mobile Clinic at the Casino
DESCRIPTION:
URL:https://www.marimnhealth.org/calendar/mobile-clinic-at-the-casino-11/
LOCATION:Coeur d’Alene Casino\, 37914 S Nukwalqw St\, Worley\, Idaho\, 83876
ATTACH;FMTTYPE=image/png:https://www.marimnhealth.org/wp-content/uploads/2026/03/Casino-Mobile-Clinic-2026-Flyer-2.png
END:VEVENT
BEGIN:VEVENT
DTSTART;TZID=America/Los_Angeles:20261027T083000
DTEND;TZID=America/Los_Angeles:20261027T160000
DTSTAMP:20260423T170326
CREATED:20260313T155019Z
LAST-MODIFIED:20260313T155019Z
UID:10007005-1793089800-1793116800@www.marimnhealth.org
SUMMARY:Mobile Clinic at the Casino
DESCRIPTION:
URL:https://www.marimnhealth.org/calendar/mobile-clinic-at-the-casino-12/
LOCATION:Coeur d’Alene Casino\, 37914 S Nukwalqw St\, Worley\, Idaho\, 83876
ATTACH;FMTTYPE=image/png:https://www.marimnhealth.org/wp-content/uploads/2026/03/Casino-Mobile-Clinic-2026-Flyer-2.png
END:VEVENT
END:VCALENDAR