BEGIN:VCALENDAR
VERSION:2.0
PRODID:-//Marimn Health - ECPv6.15.20//NONSGML v1.0//EN
CALSCALE:GREGORIAN
METHOD:PUBLISH
X-ORIGINAL-URL:https://www.marimnhealth.org
X-WR-CALDESC:Events for Marimn Health
REFRESH-INTERVAL;VALUE=DURATION:PT1H
X-Robots-Tag:noindex
X-PUBLISHED-TTL:PT1H
BEGIN:VTIMEZONE
TZID:America/Los_Angeles
BEGIN:DAYLIGHT
TZOFFSETFROM:-0800
TZOFFSETTO:-0700
TZNAME:PDT
DTSTART:20250309T100000
END:DAYLIGHT
BEGIN:STANDARD
TZOFFSETFROM:-0700
TZOFFSETTO:-0800
TZNAME:PST
DTSTART:20251102T090000
END:STANDARD
BEGIN:DAYLIGHT
TZOFFSETFROM:-0800
TZOFFSETTO:-0700
TZNAME:PDT
DTSTART:20260308T100000
END:DAYLIGHT
BEGIN:STANDARD
TZOFFSETFROM:-0700
TZOFFSETTO:-0800
TZNAME:PST
DTSTART:20261101T090000
END:STANDARD
BEGIN:DAYLIGHT
TZOFFSETFROM:-0800
TZOFFSETTO:-0700
TZNAME:PDT
DTSTART:20270314T100000
END:DAYLIGHT
BEGIN:STANDARD
TZOFFSETFROM:-0700
TZOFFSETTO:-0800
TZNAME:PST
DTSTART:20271107T090000
END:STANDARD
END:VTIMEZONE
BEGIN:VEVENT
DTSTART;TZID=America/Los_Angeles:20260305T080000
DTEND;TZID=America/Los_Angeles:20260305T160000
DTSTAMP:20260421T031424
CREATED:20260126T194234Z
LAST-MODIFIED:20260126T194532Z
UID:10006919-1772697600-1772726400@www.marimnhealth.org
SUMMARY:RC Basic Training
DESCRIPTION:*Must attend all 3 days in sequence to be certified.
URL:https://www.marimnhealth.org/calendar/rc-basic-training/
LOCATION:Marimn Health Medical Center\, 427 N 12th Street\, Plummer\, ID\, 83851\, United States
ATTACH;FMTTYPE=image/png:https://www.marimnhealth.org/wp-content/uploads/2026/01/Risking-Connection-2026-Flyer-and-FB-IMGS-2.png
END:VEVENT
BEGIN:VEVENT
DTSTART;TZID=America/Los_Angeles:20260312T080000
DTEND;TZID=America/Los_Angeles:20260312T160000
DTSTAMP:20260421T031424
CREATED:20260126T194345Z
LAST-MODIFIED:20260126T194516Z
UID:10006920-1773302400-1773331200@www.marimnhealth.org
SUMMARY:RC Basic Training
DESCRIPTION:*Must attend all 3 days in sequence to be certified.
URL:https://www.marimnhealth.org/calendar/rc-basic-training-2/
LOCATION:Marimn Health Medical Center\, 427 N 12th Street\, Plummer\, ID\, 83851\, United States
ATTACH;FMTTYPE=image/png:https://www.marimnhealth.org/wp-content/uploads/2026/01/Risking-Connection-2026-Flyer-and-FB-IMGS-2.png
END:VEVENT
BEGIN:VEVENT
DTSTART;TZID=America/Los_Angeles:20260312T100000
DTEND;TZID=America/Los_Angeles:20260312T153000
DTSTAMP:20260421T031424
CREATED:20260126T222002Z
LAST-MODIFIED:20260227T200409Z
UID:10006926-1773309600-1773329400@www.marimnhealth.org
SUMMARY:Community First Aid & CPR Training
DESCRIPTION:
URL:https://www.marimnhealth.org/calendar/community-first-aid-cpr-training-2/
LOCATION:Marimn Health Coeur Center\, 43935 US-95\, Worley\, ID\, 83876\, United States
ATTACH;FMTTYPE=image/png:https://www.marimnhealth.org/wp-content/uploads/2026/01/Communtity-First-Aid-Classes-2026-FB-IMG-2.png
ORGANIZER;CN="Aquatics":MAILTO:Aquatics@MarimnHealth.org
END:VEVENT
BEGIN:VEVENT
DTSTART;TZID=America/Los_Angeles:20260317T100000
DTEND;TZID=America/Los_Angeles:20260317T140000
DTSTAMP:20260421T031424
CREATED:20260216T171720Z
LAST-MODIFIED:20260216T171720Z
UID:10006934-1773741600-1773756000@www.marimnhealth.org
SUMMARY:Shamrock Shuffle
DESCRIPTION:
URL:https://www.marimnhealth.org/calendar/shamrock-shuffle/
LOCATION:ID
ATTACH;FMTTYPE=image/png:https://www.marimnhealth.org/wp-content/uploads/2026/02/Shamrock-Shuffle-2026-fb-img.png
ORGANIZER;CN="Lindsey Boyd":MAILTO:lboyd@marimnhealth.org
END:VEVENT
BEGIN:VEVENT
DTSTART;TZID=America/Los_Angeles:20260317T120000
DTEND;TZID=America/Los_Angeles:20260317T133000
DTSTAMP:20260421T031424
CREATED:20260313T145801Z
LAST-MODIFIED:20260313T145801Z
UID:10006992-1773748800-1773754200@www.marimnhealth.org
SUMMARY:Sacred Connections: Grandparents Raising Grandchildren (55+)
DESCRIPTION:
URL:https://www.marimnhealth.org/calendar/sacred-connections-grandparents-raising-grandchildren-55-2/
LOCATION:Rose Creek Longhouse\, 160 S Mitch Michael Dr.\, Worley\, ID\, 83876\, United States
ATTACH;FMTTYPE=image/png:https://www.marimnhealth.org/wp-content/uploads/2026/03/Sacred-Connections-3.17.png
END:VEVENT
BEGIN:VEVENT
DTSTART;TZID=America/Los_Angeles:20260317T163000
DTEND;TZID=America/Los_Angeles:20260317T180000
DTSTAMP:20260421T031424
CREATED:20260216T181723Z
LAST-MODIFIED:20260216T181723Z
UID:10006936-1773765000-1773770400@www.marimnhealth.org
SUMMARY:Wellbriety St. Patrick's Day Scavenger Hunt
DESCRIPTION:
URL:https://www.marimnhealth.org/calendar/wellbriety-st-patricks-day-scavenger-hunt/
LOCATION:Marimn Health Wellness Center\, 1100 A St\, Plummer\, ID\, 83851\, United States
ATTACH;FMTTYPE=image/png:https://www.marimnhealth.org/wp-content/uploads/2026/02/Wellbriety-St.Patricks-Scavenger-Hunt-FB-IMG.png
ORGANIZER;CN="Wellbriety":MAILTO:Wellbriety@marimnhealth.org
END:VEVENT
BEGIN:VEVENT
DTSTART;TZID=America/Los_Angeles:20260319T080000
DTEND;TZID=America/Los_Angeles:20260319T160000
DTSTAMP:20260421T031424
CREATED:20260126T194457Z
LAST-MODIFIED:20260126T194457Z
UID:10006921-1773907200-1773936000@www.marimnhealth.org
SUMMARY:RC Basic Training
DESCRIPTION:*Must attend all 3 days in sequence to be certified.
URL:https://www.marimnhealth.org/calendar/rc-basic-training-3/
LOCATION:Marimn Health Medical Center\, 427 N 12th Street\, Plummer\, ID\, 83851\, United States
ATTACH;FMTTYPE=image/png:https://www.marimnhealth.org/wp-content/uploads/2026/01/Risking-Connection-2026-Flyer-and-FB-IMGS-2.png
END:VEVENT
BEGIN:VEVENT
DTSTART;TZID=America/Los_Angeles:20260323T113000
DTEND;TZID=America/Los_Angeles:20260323T160000
DTSTAMP:20260421T031424
CREATED:20260227T195452Z
LAST-MODIFIED:20260227T195452Z
UID:10006937-1774265400-1774281600@www.marimnhealth.org
SUMMARY:Blood Drive with Vitalant
DESCRIPTION:
URL:https://www.marimnhealth.org/calendar/blood-drive-with-vitalant/
LOCATION:Marimn Health Medical Center\, 427 N 12th Street\, Plummer\, ID\, 83851\, United States
ATTACH;FMTTYPE=image/png:https://www.marimnhealth.org/wp-content/uploads/2026/02/Blood-drive-Vitalant-2026-Facebook-Post-Square-1.png
END:VEVENT
BEGIN:VEVENT
DTSTART;TZID=America/Los_Angeles:20260327T180000
DTEND;TZID=America/Los_Angeles:20260327T230000
DTSTAMP:20260421T031424
CREATED:20260313T174708Z
LAST-MODIFIED:20260313T174708Z
UID:10007010-1774634400-1774652400@www.marimnhealth.org
SUMMARY:Teen Night
DESCRIPTION:
URL:https://www.marimnhealth.org/calendar/teen-night-2/
LOCATION:Boys & Girls Club of the CDA Tribe\, 43935 S. Hwy. 95\, Worley\, ID\, 83876
ATTACH;FMTTYPE=image/png:https://www.marimnhealth.org/wp-content/uploads/2026/03/Teen-Night-March-2026.png
ORGANIZER;CN="BGC":MAILTO:bgcstaff@marimnhealth.org
END:VEVENT
END:VCALENDAR