BEGIN:VCALENDAR
VERSION:2.0
PRODID:-//Marimn Health - ECPv6.15.20//NONSGML v1.0//EN
CALSCALE:GREGORIAN
METHOD:PUBLISH
X-ORIGINAL-URL:https://www.marimnhealth.org
X-WR-CALDESC:Events for Marimn Health
REFRESH-INTERVAL;VALUE=DURATION:PT1H
X-Robots-Tag:noindex
X-PUBLISHED-TTL:PT1H
BEGIN:VTIMEZONE
TZID:America/Los_Angeles
BEGIN:DAYLIGHT
TZOFFSETFROM:-0800
TZOFFSETTO:-0700
TZNAME:PDT
DTSTART:20240310T100000
END:DAYLIGHT
BEGIN:STANDARD
TZOFFSETFROM:-0700
TZOFFSETTO:-0800
TZNAME:PST
DTSTART:20241103T090000
END:STANDARD
BEGIN:DAYLIGHT
TZOFFSETFROM:-0800
TZOFFSETTO:-0700
TZNAME:PDT
DTSTART:20250309T100000
END:DAYLIGHT
BEGIN:STANDARD
TZOFFSETFROM:-0700
TZOFFSETTO:-0800
TZNAME:PST
DTSTART:20251102T090000
END:STANDARD
BEGIN:DAYLIGHT
TZOFFSETFROM:-0800
TZOFFSETTO:-0700
TZNAME:PDT
DTSTART:20260308T100000
END:DAYLIGHT
BEGIN:STANDARD
TZOFFSETFROM:-0700
TZOFFSETTO:-0800
TZNAME:PST
DTSTART:20261101T090000
END:STANDARD
END:VTIMEZONE
BEGIN:VEVENT
DTSTART;TZID=America/Los_Angeles:20251007T080000
DTEND;TZID=America/Los_Angeles:20251007T170000
DTSTAMP:20260419T133543
CREATED:20250828T193440Z
LAST-MODIFIED:20250828T193440Z
UID:10000533-1759824000-1759856400@www.marimnhealth.org
SUMMARY:BGC-Tackle Football Game
DESCRIPTION:
URL:https://www.marimnhealth.org/calendar/bgc-tackle-football-game/2025-10-07/
LOCATION:Marimn Health Coeur Center\, 43935 US-95\, Worley\, ID\, 83876\, United States
ATTACH;FMTTYPE=image/jpeg:https://www.marimnhealth.org/wp-content/uploads/2025/08/tackle-fb.jpg
ORGANIZER;CN="BGC":MAILTO:bgcstaff@marimnhealth.org
END:VEVENT
BEGIN:VEVENT
DTSTART;TZID=America/Los_Angeles:20251010T000000
DTEND;TZID=America/Los_Angeles:20251010T235959
DTSTAMP:20260419T133543
CREATED:20250925T181657Z
LAST-MODIFIED:20250925T181657Z
UID:10006374-1760054400-1760140799@www.marimnhealth.org
SUMMARY:Virtual Golf League
DESCRIPTION:Last day to register: October 10th
URL:https://www.marimnhealth.org/calendar/virtual-golf-league/
LOCATION:Coeur d’Alene Casino\, 37914 S Nukwalqw St\, Worley\, Idaho\, 83876
ATTACH;FMTTYPE=image/png:https://www.marimnhealth.org/wp-content/uploads/2025/09/Marimn-Health-Virtual-Golf-League.png
ORGANIZER;CN="Recreation":MAILTO:recreation@marimnhealth.org
END:VEVENT
END:VCALENDAR