BEGIN:VCALENDAR
VERSION:2.0
PRODID:-//Marimn Health - ECPv6.15.20//NONSGML v1.0//EN
CALSCALE:GREGORIAN
METHOD:PUBLISH
X-ORIGINAL-URL:https://www.marimnhealth.org
X-WR-CALDESC:Events for Marimn Health
REFRESH-INTERVAL;VALUE=DURATION:PT1H
X-Robots-Tag:noindex
X-PUBLISHED-TTL:PT1H
BEGIN:VTIMEZONE
TZID:America/Los_Angeles
BEGIN:DAYLIGHT
TZOFFSETFROM:-0800
TZOFFSETTO:-0700
TZNAME:PDT
DTSTART:20240310T100000
END:DAYLIGHT
BEGIN:STANDARD
TZOFFSETFROM:-0700
TZOFFSETTO:-0800
TZNAME:PST
DTSTART:20241103T090000
END:STANDARD
BEGIN:DAYLIGHT
TZOFFSETFROM:-0800
TZOFFSETTO:-0700
TZNAME:PDT
DTSTART:20250309T100000
END:DAYLIGHT
BEGIN:STANDARD
TZOFFSETFROM:-0700
TZOFFSETTO:-0800
TZNAME:PST
DTSTART:20251102T090000
END:STANDARD
BEGIN:DAYLIGHT
TZOFFSETFROM:-0800
TZOFFSETTO:-0700
TZNAME:PDT
DTSTART:20260308T100000
END:DAYLIGHT
BEGIN:STANDARD
TZOFFSETFROM:-0700
TZOFFSETTO:-0800
TZNAME:PST
DTSTART:20261101T090000
END:STANDARD
END:VTIMEZONE
BEGIN:VEVENT
DTSTART;TZID=America/Los_Angeles:20251222T133000
DTEND;TZID=America/Los_Angeles:20251222T200000
DTSTAMP:20260420T110133
CREATED:20251121T171630Z
LAST-MODIFIED:20251121T171630Z
UID:10006915-1766410200-1766433600@www.marimnhealth.org
SUMMARY:BGC Teen Services: Dave & Busters Field Trip
DESCRIPTION:
URL:https://www.marimnhealth.org/calendar/bgc-teen-services-dave-busters-field-trip/
LOCATION:ID
ATTACH;FMTTYPE=image/png:https://www.marimnhealth.org/wp-content/uploads/2025/11/Dave-Busters-Teen-Field-Trip-BGC-FB-IMG.png
ORGANIZER;CN="BGC":MAILTO:bgcstaff@marimnhealth.org
END:VEVENT
BEGIN:VEVENT
DTSTART;TZID=America/Los_Angeles:20251223T163000
DTEND;TZID=America/Los_Angeles:20251223T183000
DTSTAMP:20260420T110133
CREATED:20251121T170650Z
LAST-MODIFIED:20251121T192229Z
UID:10006911-1766507400-1766514600@www.marimnhealth.org
SUMMARY:Wellbriety Christmas Potluck
DESCRIPTION:
URL:https://www.marimnhealth.org/calendar/wellbriety-christmas-potluck/
LOCATION:Marimn Health Wellness Center\, 1100 A St\, Plummer\, ID\, 83851\, United States
ATTACH;FMTTYPE=image/png:https://www.marimnhealth.org/wp-content/uploads/2025/11/Wellbriety-Christmas-Potluck-2025-FB-Img.png
ORGANIZER;CN="Wellbriety":MAILTO:Wellbriety@marimnhealth.org
END:VEVENT
BEGIN:VEVENT
DTSTART;TZID=America/Los_Angeles:20251224T000000
DTEND;TZID=America/Los_Angeles:20251225T235959
DTSTAMP:20260420T110133
CREATED:20250917T193542Z
LAST-MODIFIED:20250917T193542Z
UID:10004218-1766534400-1766707199@www.marimnhealth.org
SUMMARY:Closed for the Holidays
DESCRIPTION:Marimn Health Clinic | Coeur Center | Wellness Center | Boys & Girls Club
URL:https://www.marimnhealth.org/calendar/closed-for-the-holidays/
LOCATION:ID
END:VEVENT
END:VCALENDAR