BEGIN:VCALENDAR
VERSION:2.0
PRODID:-//Marimn Health - ECPv6.15.20//NONSGML v1.0//EN
CALSCALE:GREGORIAN
METHOD:PUBLISH
X-ORIGINAL-URL:https://www.marimnhealth.org
X-WR-CALDESC:Events for Marimn Health
REFRESH-INTERVAL;VALUE=DURATION:PT1H
X-Robots-Tag:noindex
X-PUBLISHED-TTL:PT1H
BEGIN:VTIMEZONE
TZID:America/Los_Angeles
BEGIN:DAYLIGHT
TZOFFSETFROM:-0800
TZOFFSETTO:-0700
TZNAME:PDT
DTSTART:20250309T100000
END:DAYLIGHT
BEGIN:STANDARD
TZOFFSETFROM:-0700
TZOFFSETTO:-0800
TZNAME:PST
DTSTART:20251102T090000
END:STANDARD
BEGIN:DAYLIGHT
TZOFFSETFROM:-0800
TZOFFSETTO:-0700
TZNAME:PDT
DTSTART:20260308T100000
END:DAYLIGHT
BEGIN:STANDARD
TZOFFSETFROM:-0700
TZOFFSETTO:-0800
TZNAME:PST
DTSTART:20261101T090000
END:STANDARD
BEGIN:DAYLIGHT
TZOFFSETFROM:-0800
TZOFFSETTO:-0700
TZNAME:PDT
DTSTART:20270314T100000
END:DAYLIGHT
BEGIN:STANDARD
TZOFFSETFROM:-0700
TZOFFSETTO:-0800
TZNAME:PST
DTSTART:20271107T090000
END:STANDARD
END:VTIMEZONE
BEGIN:VEVENT
DTSTART;TZID=America/Los_Angeles:20260126T130000
DTEND;TZID=America/Los_Angeles:20260211T183000
DTSTAMP:20260420T193006
CREATED:20260126T222920Z
LAST-MODIFIED:20260126T222920Z
UID:10006931-1769432400-1770834600@www.marimnhealth.org
SUMMARY:Val-o-grams
DESCRIPTION:
URL:https://www.marimnhealth.org/calendar/val-o-grams/
LOCATION:Marimn Health Wellness Center\, 1100 A St\, Plummer\, ID\, 83851\, United States
ATTACH;FMTTYPE=image/png:https://www.marimnhealth.org/wp-content/uploads/2026/01/Val-o-Grams-2026-FB-IMG-1.png
ORGANIZER;CN="BGC":MAILTO:bgcstaff@marimnhealth.org
END:VEVENT
BEGIN:VEVENT
DTSTART;TZID=America/Los_Angeles:20260202T000000
DTEND;TZID=America/Los_Angeles:20260227T235959
DTSTAMP:20260420T193006
CREATED:20260126T194721Z
LAST-MODIFIED:20260126T200337Z
UID:10006922-1769990400-1772236799@www.marimnhealth.org
SUMMARY:Climb the Mountain
DESCRIPTION:
URL:https://www.marimnhealth.org/calendar/climb-the-mountain/
LOCATION:Marimn Health Wellness Center\, 1100 A St\, Plummer\, ID\, 83851\, United States
ATTACH;FMTTYPE=image/png:https://www.marimnhealth.org/wp-content/uploads/2026/01/Climb-the-mountain-2026-Facebook-Post.png
END:VEVENT
BEGIN:VEVENT
DTSTART;TZID=America/Los_Angeles:20260208T100000
DTEND;TZID=America/Los_Angeles:20260208T160000
DTSTAMP:20260420T193006
CREATED:20260126T222530Z
LAST-MODIFIED:20260126T222530Z
UID:10006929-1770544800-1770566400@www.marimnhealth.org
SUMMARY:Super Smash Bros Tournament
DESCRIPTION:
URL:https://www.marimnhealth.org/calendar/super-smash-bros-tournament/
LOCATION:Marimn Health Coeur Center\, 43935 US-95\, Worley\, ID\, 83876\, United States
ATTACH;FMTTYPE=image/png:https://www.marimnhealth.org/wp-content/uploads/2026/01/Super-Smash-Bros-Tournament-2026-Flyer-Facebook-Post-Square-1.png
ORGANIZER;CN="Recreation":MAILTO:recreation@marimnhealth.org
END:VEVENT
BEGIN:VEVENT
DTSTART;TZID=America/Los_Angeles:20260208T140000
DTEND;TZID=America/Los_Angeles:20260208T200000
DTSTAMP:20260420T193006
CREATED:20260126T222345Z
LAST-MODIFIED:20260126T222345Z
UID:10006928-1770559200-1770580800@www.marimnhealth.org
SUMMARY:Super Bowl Party
DESCRIPTION:
URL:https://www.marimnhealth.org/calendar/super-bowl-party/
LOCATION:Marimn Health Coeur Center\, 43935 US-95\, Worley\, ID\, 83876\, United States
ATTACH;FMTTYPE=image/png:https://www.marimnhealth.org/wp-content/uploads/2026/01/Super-Bowl-Party-2026-FB-iMG.png
ORGANIZER;CN="Recreation":MAILTO:recreation@marimnhealth.org
END:VEVENT
END:VCALENDAR