BEGIN:VCALENDAR
VERSION:2.0
PRODID:-//Marimn Health - ECPv6.15.20//NONSGML v1.0//EN
CALSCALE:GREGORIAN
METHOD:PUBLISH
X-WR-CALNAME:Marimn Health
X-ORIGINAL-URL:https://www.marimnhealth.org
X-WR-CALDESC:Events for Marimn Health
REFRESH-INTERVAL;VALUE=DURATION:PT1H
X-Robots-Tag:noindex
X-PUBLISHED-TTL:PT1H
BEGIN:VTIMEZONE
TZID:America/Los_Angeles
BEGIN:DAYLIGHT
TZOFFSETFROM:-0800
TZOFFSETTO:-0700
TZNAME:PDT
DTSTART:20240310T100000
END:DAYLIGHT
BEGIN:STANDARD
TZOFFSETFROM:-0700
TZOFFSETTO:-0800
TZNAME:PST
DTSTART:20241103T090000
END:STANDARD
BEGIN:DAYLIGHT
TZOFFSETFROM:-0800
TZOFFSETTO:-0700
TZNAME:PDT
DTSTART:20250309T100000
END:DAYLIGHT
BEGIN:STANDARD
TZOFFSETFROM:-0700
TZOFFSETTO:-0800
TZNAME:PST
DTSTART:20251102T090000
END:STANDARD
BEGIN:DAYLIGHT
TZOFFSETFROM:-0800
TZOFFSETTO:-0700
TZNAME:PDT
DTSTART:20260308T100000
END:DAYLIGHT
BEGIN:STANDARD
TZOFFSETFROM:-0700
TZOFFSETTO:-0800
TZNAME:PST
DTSTART:20261101T090000
END:STANDARD
BEGIN:DAYLIGHT
TZOFFSETFROM:-0800
TZOFFSETTO:-0700
TZNAME:PDT
DTSTART:20270314T100000
END:DAYLIGHT
BEGIN:STANDARD
TZOFFSETFROM:-0700
TZOFFSETTO:-0800
TZNAME:PST
DTSTART:20271107T090000
END:STANDARD
END:VTIMEZONE
BEGIN:VEVENT
DTSTART;TZID=America/Los_Angeles:20260317T100000
DTEND;TZID=America/Los_Angeles:20260317T140000
DTSTAMP:20260425T131555
CREATED:20260216T171720Z
LAST-MODIFIED:20260216T171720Z
UID:10006934-1773741600-1773756000@www.marimnhealth.org
SUMMARY:Shamrock Shuffle
DESCRIPTION:
URL:https://www.marimnhealth.org/calendar/shamrock-shuffle/
ATTACH;FMTTYPE=image/png:https://www.marimnhealth.org/wp-content/uploads/2026/02/Shamrock-Shuffle-2026-fb-img.png
ORGANIZER;CN="Lindsey Boyd":MAILTO:lboyd@marimnhealth.org
END:VEVENT
BEGIN:VEVENT
DTSTART;TZID=America/Los_Angeles:20250827T060000
DTEND;TZID=America/Los_Angeles:20250827T070000
DTSTAMP:20260425T131555
CREATED:20250610T225146Z
LAST-MODIFIED:20250610T225146Z
UID:10000402-1756274400-1756278000@www.marimnhealth.org
SUMMARY:Sizzlin' Summer Series
DESCRIPTION:
URL:https://www.marimnhealth.org/calendar/sizzlin-summer-series-4/
LOCATION:Marimn Health Coeur Center\, 43935 US-95\, Worley\, ID\, 83876\, United States
ORGANIZER;CN="Lindsey Boyd":MAILTO:lboyd@marimnhealth.org
END:VEVENT
BEGIN:VEVENT
DTSTART;TZID=America/Los_Angeles:20250820T060000
DTEND;TZID=America/Los_Angeles:20250820T070000
DTSTAMP:20260425T131555
CREATED:20250610T225100Z
LAST-MODIFIED:20250610T225100Z
UID:10000401-1755669600-1755673200@www.marimnhealth.org
SUMMARY:Sizzlin' Summer Series
DESCRIPTION:
URL:https://www.marimnhealth.org/calendar/sizzlin-summer-series-3/
LOCATION:Marimn Health Coeur Center\, 43935 US-95\, Worley\, ID\, 83876\, United States
ORGANIZER;CN="Lindsey Boyd":MAILTO:lboyd@marimnhealth.org
END:VEVENT
BEGIN:VEVENT
DTSTART;TZID=America/Los_Angeles:20250813T060000
DTEND;TZID=America/Los_Angeles:20250813T070000
DTSTAMP:20260425T131555
CREATED:20250610T225020Z
LAST-MODIFIED:20250610T225020Z
UID:10000400-1755064800-1755068400@www.marimnhealth.org
SUMMARY:Sizzlin' Summer Series
DESCRIPTION:
URL:https://www.marimnhealth.org/calendar/sizzlin-summer-series-2/
LOCATION:Marimn Health Coeur Center\, 43935 US-95\, Worley\, ID\, 83876\, United States
ORGANIZER;CN="Lindsey Boyd":MAILTO:lboyd@marimnhealth.org
END:VEVENT
BEGIN:VEVENT
DTSTART;TZID=America/Los_Angeles:20250806T060000
DTEND;TZID=America/Los_Angeles:20250806T070000
DTSTAMP:20260425T131555
CREATED:20250610T224924Z
LAST-MODIFIED:20250610T224924Z
UID:10000399-1754460000-1754463600@www.marimnhealth.org
SUMMARY:Sizzlin' Summer Series
DESCRIPTION:
URL:https://www.marimnhealth.org/calendar/sizzlin-summer-series/
LOCATION:Marimn Health Coeur Center\, 43935 US-95\, Worley\, ID\, 83876\, United States
ORGANIZER;CN="Lindsey Boyd":MAILTO:lboyd@marimnhealth.org
END:VEVENT
BEGIN:VEVENT
DTSTART;TZID=America/Los_Angeles:20250719T080000
DTEND;TZID=America/Los_Angeles:20250719T100000
DTSTAMP:20260425T131555
CREATED:20250610T223810Z
LAST-MODIFIED:20250711T175656Z
UID:10000394-1752912000-1752919200@www.marimnhealth.org
SUMMARY:Wellness Center Fun Run/Walk
DESCRIPTION:It’s time to lace up and get moving at our Wellness Center Fun Run. Take a stroll with your friends and family or challenge a race\, it’s about having fun and encouraging each other to stay active.
URL:https://www.marimnhealth.org/calendar/wellness-center-fun-run-walk/
LOCATION:Marimn Health Wellness Center\, 1100 A St\, Plummer\, ID\, 83851\, United States
ORGANIZER;CN="Lindsey Boyd":MAILTO:lboyd@marimnhealth.org
END:VEVENT
BEGIN:VEVENT
DTSTART;TZID=America/Los_Angeles:20250521T080000
DTEND;TZID=America/Los_Angeles:20250521T120000
DTSTAMP:20260425T131555
CREATED:20250506T222451Z
LAST-MODIFIED:20250506T222451Z
UID:10000391-1747814400-1747828800@www.marimnhealth.org
SUMMARY:Spring Elder Games
DESCRIPTION:
URL:https://www.marimnhealth.org/calendar/spring-elder-games/
LOCATION:Marimn Health Coeur Center\, 43935 US-95\, Worley\, ID\, 83876\, United States
ORGANIZER;CN="Lindsey Boyd":MAILTO:lboyd@marimnhealth.org
END:VEVENT
END:VCALENDAR