BEGIN:VCALENDAR
VERSION:2.0
PRODID:-//Marimn Health - ECPv6.15.20//NONSGML v1.0//EN
CALSCALE:GREGORIAN
METHOD:PUBLISH
X-WR-CALNAME:Marimn Health
X-ORIGINAL-URL:https://www.marimnhealth.org
X-WR-CALDESC:Events for Marimn Health
REFRESH-INTERVAL;VALUE=DURATION:PT1H
X-Robots-Tag:noindex
X-PUBLISHED-TTL:PT1H
BEGIN:VTIMEZONE
TZID:America/Los_Angeles
BEGIN:DAYLIGHT
TZOFFSETFROM:-0800
TZOFFSETTO:-0700
TZNAME:PDT
DTSTART:20240310T100000
END:DAYLIGHT
BEGIN:STANDARD
TZOFFSETFROM:-0700
TZOFFSETTO:-0800
TZNAME:PST
DTSTART:20241103T090000
END:STANDARD
BEGIN:DAYLIGHT
TZOFFSETFROM:-0800
TZOFFSETTO:-0700
TZNAME:PDT
DTSTART:20250309T100000
END:DAYLIGHT
BEGIN:STANDARD
TZOFFSETFROM:-0700
TZOFFSETTO:-0800
TZNAME:PST
DTSTART:20251102T090000
END:STANDARD
BEGIN:DAYLIGHT
TZOFFSETFROM:-0800
TZOFFSETTO:-0700
TZNAME:PDT
DTSTART:20260308T100000
END:DAYLIGHT
BEGIN:STANDARD
TZOFFSETFROM:-0700
TZOFFSETTO:-0800
TZNAME:PST
DTSTART:20261101T090000
END:STANDARD
BEGIN:DAYLIGHT
TZOFFSETFROM:-0800
TZOFFSETTO:-0700
TZNAME:PDT
DTSTART:20270314T100000
END:DAYLIGHT
BEGIN:STANDARD
TZOFFSETFROM:-0700
TZOFFSETTO:-0800
TZNAME:PST
DTSTART:20271107T090000
END:STANDARD
END:VTIMEZONE
BEGIN:VEVENT
DTSTART;TZID=America/Los_Angeles:20260317T163000
DTEND;TZID=America/Los_Angeles:20260317T180000
DTSTAMP:20260423T170341
CREATED:20260216T181723Z
LAST-MODIFIED:20260216T181723Z
UID:10006936-1773765000-1773770400@www.marimnhealth.org
SUMMARY:Wellbriety St. Patrick's Day Scavenger Hunt
DESCRIPTION:
URL:https://www.marimnhealth.org/calendar/wellbriety-st-patricks-day-scavenger-hunt/
LOCATION:Marimn Health Wellness Center\, 1100 A St\, Plummer\, ID\, 83851\, United States
ATTACH;FMTTYPE=image/png:https://www.marimnhealth.org/wp-content/uploads/2026/02/Wellbriety-St.Patricks-Scavenger-Hunt-FB-IMG.png
ORGANIZER;CN="Wellbriety":MAILTO:Wellbriety@marimnhealth.org
END:VEVENT
BEGIN:VEVENT
DTSTART;TZID=America/Los_Angeles:20251223T163000
DTEND;TZID=America/Los_Angeles:20251223T183000
DTSTAMP:20260423T170341
CREATED:20251121T170650Z
LAST-MODIFIED:20251121T192229Z
UID:10006911-1766507400-1766514600@www.marimnhealth.org
SUMMARY:Wellbriety Christmas Potluck
DESCRIPTION:
URL:https://www.marimnhealth.org/calendar/wellbriety-christmas-potluck/
LOCATION:Marimn Health Wellness Center\, 1100 A St\, Plummer\, ID\, 83851\, United States
ATTACH;FMTTYPE=image/png:https://www.marimnhealth.org/wp-content/uploads/2025/11/Wellbriety-Christmas-Potluck-2025-FB-Img.png
ORGANIZER;CN="Wellbriety":MAILTO:Wellbriety@marimnhealth.org
END:VEVENT
BEGIN:VEVENT
DTSTART;TZID=America/Los_Angeles:20251028T163000
DTEND;TZID=America/Los_Angeles:20251028T183000
DTSTAMP:20260423T170341
CREATED:20250924T192502Z
LAST-MODIFIED:20250924T192516Z
UID:10006055-1761669000-1761676200@www.marimnhealth.org
SUMMARY:Wellbriety Pumpkin Carving
DESCRIPTION:
URL:https://www.marimnhealth.org/calendar/wellbriety-pumpkin-carving/
LOCATION:Marimn Health Wellness Center\, 1100 A St\, Plummer\, ID\, 83851\, United States
ATTACH;FMTTYPE=image/png:https://www.marimnhealth.org/wp-content/uploads/2025/09/Wellbriety-pumpkin-Carving-Facebook-Post.png
ORGANIZER;CN="Wellbriety":MAILTO:Wellbriety@marimnhealth.org
END:VEVENT
BEGIN:VEVENT
DTSTART;TZID=America/Los_Angeles:20250828T200000
DTEND;TZID=America/Los_Angeles:20250828T230000
DTSTAMP:20260423T170341
CREATED:20250610T224457Z
LAST-MODIFIED:20250610T224457Z
UID:10000398-1756411200-1756422000@www.marimnhealth.org
SUMMARY:Dinner & Movie - Worley
DESCRIPTION:
URL:https://www.marimnhealth.org/calendar/dinner-movie-worley/
LOCATION:Marimn Health Coeur Center\, 43935 US-95\, Worley\, ID\, 83876\, United States
ORGANIZER;CN="Recreation":MAILTO:recreation@marimnhealth.org
END:VEVENT
BEGIN:VEVENT
DTSTART;TZID=America/Los_Angeles:20250821T200000
DTEND;TZID=America/Los_Angeles:20250821T230000
DTSTAMP:20260423T170341
CREATED:20250610T224415Z
LAST-MODIFIED:20250610T224415Z
UID:10000397-1755806400-1755817200@www.marimnhealth.org
SUMMARY:Dinner & Movie - Plummer
DESCRIPTION:
URL:https://www.marimnhealth.org/calendar/dinner-movie-plummer/
ORGANIZER;CN="Recreation":MAILTO:recreation@marimnhealth.org
END:VEVENT
BEGIN:VEVENT
DTSTART;TZID=America/Los_Angeles:20250814T200000
DTEND;TZID=America/Los_Angeles:20250814T230000
DTSTAMP:20260423T170341
CREATED:20250610T224325Z
LAST-MODIFIED:20250610T224325Z
UID:10000396-1755201600-1755212400@www.marimnhealth.org
SUMMARY:Dinner & Movie - Desmet
DESCRIPTION:
URL:https://www.marimnhealth.org/calendar/dinner-movie-desmet/
ORGANIZER;CN="Recreation":MAILTO:recreation@marimnhealth.org
END:VEVENT
BEGIN:VEVENT
DTSTART;TZID=America/Los_Angeles:20250509T163000
DTEND;TZID=America/Los_Angeles:20250509T180000
DTSTAMP:20260423T170341
CREATED:20250506T210523Z
LAST-MODIFIED:20250506T212615Z
UID:10000383-1746808200-1746813600@www.marimnhealth.org
SUMMARY:Wellbriety Mother's Day Celebration
DESCRIPTION:
URL:https://www.marimnhealth.org/calendar/wellbriety-mothers-day-celebration/
LOCATION:Marimn Health Wellness Center\, 1100 A St\, Plummer\, ID\, 83851\, United States
ORGANIZER;CN="Wellbriety":MAILTO:Wellbriety@marimnhealth.org
END:VEVENT
END:VCALENDAR